BEGIN:VCALENDAR
VERSION:2.0
PRODID:-//EcoEngineers - ECPv6.15.20//NONSGML v1.0//EN
CALSCALE:GREGORIAN
METHOD:PUBLISH
X-WR-CALNAME:EcoEngineers
X-ORIGINAL-URL:https://www.ecoengineers.us
X-WR-CALDESC:Events for EcoEngineers
REFRESH-INTERVAL;VALUE=DURATION:PT1H
X-Robots-Tag:noindex
X-PUBLISHED-TTL:PT1H
BEGIN:VTIMEZONE
TZID:America/Chicago
BEGIN:DAYLIGHT
TZOFFSETFROM:-0600
TZOFFSETTO:-0500
TZNAME:CDT
DTSTART:20240310T080000
END:DAYLIGHT
BEGIN:STANDARD
TZOFFSETFROM:-0500
TZOFFSETTO:-0600
TZNAME:CST
DTSTART:20241103T070000
END:STANDARD
BEGIN:DAYLIGHT
TZOFFSETFROM:-0600
TZOFFSETTO:-0500
TZNAME:CDT
DTSTART:20250309T080000
END:DAYLIGHT
BEGIN:STANDARD
TZOFFSETFROM:-0500
TZOFFSETTO:-0600
TZNAME:CST
DTSTART:20251102T070000
END:STANDARD
BEGIN:DAYLIGHT
TZOFFSETFROM:-0600
TZOFFSETTO:-0500
TZNAME:CDT
DTSTART:20260308T080000
END:DAYLIGHT
BEGIN:STANDARD
TZOFFSETFROM:-0500
TZOFFSETTO:-0600
TZNAME:CST
DTSTART:20261101T070000
END:STANDARD
END:VTIMEZONE
BEGIN:VEVENT
DTSTART;VALUE=DATE:20250204
DTEND;VALUE=DATE:20250205
DTSTAMP:20260423T085058
CREATED:20250203T181432Z
LAST-MODIFIED:20250203T181432Z
UID:10000103-1738627200-1738713599@www.ecoengineers.us
SUMMARY:The Iowa Renewable Fuels Summit
DESCRIPTION:EcoEngineers is happy to share we will be sponsoring and exhibiting this years IRFA Summit in Altoona\, Iowa. Connect with our experts at booth #13 \nMore from the event organizer: \nThe Iowa Renewable Fuels Summit is the Midwest’s largest biofuels policy conference! Drawing from over a dozen states\, attendees represent every sector of the biofuels industry and beyond – including biofuels producers and supporters\, policy experts\, elected officials\, and media. 
URL:https://www.ecoengineers.us/event/the-iowa-renewable-fuels-summit/
LOCATION:Meadows Convention Center\, 1 Prairie Meadows Drive\, Altoona\, IA\, 50009\, United States
CATEGORIES:Event
END:VEVENT
BEGIN:VEVENT
DTSTART;VALUE=DATE:20250212
DTEND;VALUE=DATE:20250214
DTSTAMP:20260423T085058
CREATED:20250203T214213Z
LAST-MODIFIED:20250203T214213Z
UID:10000105-1739318400-1739491199@www.ecoengineers.us
SUMMARY:Renmad Biomentano 2025
DESCRIPTION:EcoEngineers industry experts are attending the 2025 Renmad Biomentano in Toledo\, Spain. \nMore from event organizer: \nBiomethane\, a biogas improved to the quality of natural gas (methane)\, represents significant promise as a renewable energy source in Spain. The biomethane industry is evolving rapidly\, however\, there is still a long way to go\, with bureaucratic and logistical challenges that can slow down development. \nIn the last edition we explored the potential of our country\, as well as some of these challenges\, but a lot has changed since then. Currently\, and despite the long road ahead\, Spain is positioning itself as one of the fastest growing biomethane markets in Europe. The European Commission’s support through various initiatives underlines Spain’s commitment to renewable energy. \nTherefore\, join us at RENMAD Biomethane 2025 (12 and 13 February\, Toledo) and learn about investment opportunities\, as well as everything else you need to know to lead the change in the renewable gas sector in our country. Don’t miss the opportunity to be part of the biomethane revolution in Spain. Book your place now and be the protagonist of Spain’s sustainable energy future.
URL:https://www.ecoengineers.us/event/renmad-biomentano-2025/
LOCATION:Eurostars Palacio Buenavista\, C. de los Concilios\, 1\, Toledo\, 45005\, Spain
CATEGORIES:Event
ORGANIZER;CN="ata insights":MAILTO:info@atainsights.com
END:VEVENT
BEGIN:VEVENT
DTSTART;TZID=America/Chicago:20250226T080000
DTEND;TZID=America/Chicago:20250227T170000
DTSTAMP:20260423T085058
CREATED:20241018T221809Z
LAST-MODIFIED:20241018T221809Z
UID:10000100-1740556800-1740675600@www.ecoengineers.us
SUMMARY:2025 Green Hydrogen West Summit
DESCRIPTION:EcoEngineers Tanya Peacock\, Managing Director of Hydrogen\, will be speaking at the 2025 Green Hydrogen West Summit on Feb. 26-27. As a Keynote Panelist she will be speaking on how the hydrogen market will create infrastructure to increase production as Hydrogen is expected to see an increased demand. \nMore from this organizer: \nThe Green Hydrogen Summit North America will inspire and educate delegates on how to take advantage of the financial and decarbonization opps.
URL:https://www.ecoengineers.us/event/2025-green-hydrogen-west-summit/
LOCATION:Seattle\, Washington\, United States
CATEGORIES:Event
END:VEVENT
END:VCALENDAR