BEGIN:VCALENDAR
VERSION:2.0
PRODID:-//EcoEngineers - ECPv6.15.20//NONSGML v1.0//EN
CALSCALE:GREGORIAN
METHOD:PUBLISH
X-WR-CALNAME:EcoEngineers
X-ORIGINAL-URL:https://www.ecoengineers.us
X-WR-CALDESC:Events for EcoEngineers
REFRESH-INTERVAL;VALUE=DURATION:PT1H
X-Robots-Tag:noindex
X-PUBLISHED-TTL:PT1H
BEGIN:VTIMEZONE
TZID:America/Chicago
BEGIN:DAYLIGHT
TZOFFSETFROM:-0600
TZOFFSETTO:-0500
TZNAME:CDT
DTSTART:20230312T080000
END:DAYLIGHT
BEGIN:STANDARD
TZOFFSETFROM:-0500
TZOFFSETTO:-0600
TZNAME:CST
DTSTART:20231105T070000
END:STANDARD
BEGIN:DAYLIGHT
TZOFFSETFROM:-0600
TZOFFSETTO:-0500
TZNAME:CDT
DTSTART:20240310T080000
END:DAYLIGHT
BEGIN:STANDARD
TZOFFSETFROM:-0500
TZOFFSETTO:-0600
TZNAME:CST
DTSTART:20241103T070000
END:STANDARD
BEGIN:DAYLIGHT
TZOFFSETFROM:-0600
TZOFFSETTO:-0500
TZNAME:CDT
DTSTART:20250309T080000
END:DAYLIGHT
BEGIN:STANDARD
TZOFFSETFROM:-0500
TZOFFSETTO:-0600
TZNAME:CST
DTSTART:20251102T070000
END:STANDARD
END:VTIMEZONE
BEGIN:VEVENT
DTSTART;TZID=America/Chicago:20240926T120000
DTEND;TZID=America/Chicago:20240926T123000
DTSTAMP:20260425T081643
CREATED:20240923T190430Z
LAST-MODIFIED:20240923T190430Z
UID:10000077-1727352000-1727353800@www.ecoengineers.us
SUMMARY:Back to Basics: Ethanol 101
DESCRIPTION:Join us for an insightful webinar to gain a basic understanding of the U.S. ethanol industry. This session\, part of our ongoing “Back to Basics” series\, will cover the foundational aspects of ethanol production and provide a brief history of the U.S. ethanol market\, key drivers of growth\, and regulatory frameworks such as the Renewable Fuel Standard (RFS) and state-driven low carbon fuel standards (LCFS) shaping the industry\, as well as voluntary carbon markets (VCM). We will also delve into the role of ethanol in reducing greenhouse gas (GHG) emissions\, the impact of sustainable agricultural practices\, and the latest advancements in ethanol process technology and feedstocks. This webinar is ideal for professionals seeking to gain basic knowledge of the ethanol sector and stay informed about the evolving landscape of renewable fuels. \nKEY TOPICS: \n\nOverview of the U.S. ethanol industry\, including ethanol feedstock types\, the various roles within the ethanol value chain in the context of federal regulatory markets such as the RFS\, state-driven low carbon fuel standard (LCFS) programs\, and VCM\, as well as a brief history of the market.\nLearn how ethanol is produced in a typical dry-mil ethanol plant and how facilities are maximizing the value from every kernel of corn processed in the fermentation process.\nUnderstand what a life-cycle analysis (LCA) is\, carbon intensity (CI) scoring\, why LCAs are needed to calculate CI scores\, and why CI scores are important for ethanol producers to monetize credits and incentives like Renewable Identification Numbers (RINs)\, LCFS credits\, and Inflation Reduction Act (IRA) tax credits such as Section 45Z.\nExplore the critical role of sustainable agriculture practices like cover cropping\, crop rotation\, and conservation tillage\, and learn how on-the-farm carbon reduction activities are helping impact the ethanol value chain.\nGain insight into how innovative carbon capture and storage (CCS) technologies are being integrated into ethanol plant operations to lower the carbon footprint of their facilities and monetize federal and state credits and learn how EcoEngineers (Eco) helped one U.S. ethanol producer become the first in the nation to generate carbon dioxide (CO2) removal certificates (CORCs) in the VCM.\n\n\n 
URL:https://www.ecoengineers.us/event/back-to-basics-ethanol-101/
CATEGORIES:Webinar
END:VEVENT
END:VCALENDAR