BEGIN:VCALENDAR
VERSION:2.0
PRODID:-//EcoEngineers - ECPv6.15.20//NONSGML v1.0//EN
CALSCALE:GREGORIAN
METHOD:PUBLISH
X-WR-CALNAME:EcoEngineers
X-ORIGINAL-URL:https://www.ecoengineers.us
X-WR-CALDESC:Events for EcoEngineers
REFRESH-INTERVAL;VALUE=DURATION:PT1H
X-Robots-Tag:noindex
X-PUBLISHED-TTL:PT1H
BEGIN:VTIMEZONE
TZID:America/Chicago
BEGIN:DAYLIGHT
TZOFFSETFROM:-0600
TZOFFSETTO:-0500
TZNAME:CDT
DTSTART:20230312T080000
END:DAYLIGHT
BEGIN:STANDARD
TZOFFSETFROM:-0500
TZOFFSETTO:-0600
TZNAME:CST
DTSTART:20231105T070000
END:STANDARD
BEGIN:DAYLIGHT
TZOFFSETFROM:-0600
TZOFFSETTO:-0500
TZNAME:CDT
DTSTART:20240310T080000
END:DAYLIGHT
BEGIN:STANDARD
TZOFFSETFROM:-0500
TZOFFSETTO:-0600
TZNAME:CST
DTSTART:20241103T070000
END:STANDARD
BEGIN:DAYLIGHT
TZOFFSETFROM:-0600
TZOFFSETTO:-0500
TZNAME:CDT
DTSTART:20250309T080000
END:DAYLIGHT
BEGIN:STANDARD
TZOFFSETFROM:-0500
TZOFFSETTO:-0600
TZNAME:CST
DTSTART:20251102T070000
END:STANDARD
END:VTIMEZONE
BEGIN:VEVENT
DTSTART;TZID=America/Chicago:20240625T080000
DTEND;TZID=America/Chicago:20240626T170000
DTSTAMP:20260421T051943
CREATED:20240607T154857Z
LAST-MODIFIED:20240607T154857Z
UID:10000056-1719302400-1719421200@www.ecoengineers.us
SUMMARY:Join Us: Life-Cycle Analysis Academy
DESCRIPTION:Join Us: Life-Cycle Analysis Academy\nJune 25 – 26 Des Moines\, Iowa \nHotel Fort Des Moines\, 1000 Walnut Street\, Des Moines\, Iowa \nAdvance Registration by June 7: $2\,450\nRegular Registration June 8: $2\,950 \nA life-cycle analysis (LCA) is a systematic and comprehensive method for evaluating the environmental impact of a product\, service\, or system from its inception to its end-of-life. Undertaking a comprehensive LCA requires a detailed examination of energy usage\, upstream farm or raw material extraction inputs\, and processing inputs along with all outputs throughout the various life-cycle stages including coproducts and waste. \nLCAs typically assess the global warming potential\, or carbon footprint\, of a functional unit but can also encompass other impact categories such as land use and land use change\, eutrophication\, acidification\, and water use\, among others. \nAs climate regulations and tax credits evolve\, consumer preferences shift\, and opportunities in voluntary carbon markets emerge\, LCAs have become the cornerstone of these developments. Understanding and implementing LCAs is crucial for businesses to stay ahead in these changing times. \nEcoEngineers is an industry leader in performing LCAs\, with a team of renowned scientists performing more than 1\,000 carbon LCAs since 2015. Combined with our expertise in EcoUniversity\, we created the LCA Academy to help our clients meet the ever-increasing demand for LCAs\, while reducing their environmental impact and increasing profitability. \nThe LCA Academy provides a unique opportunity for industry leaders and practitioners across all sectors to gain insights from our expertise and make a significant impact in your field. The executive track offers a forum for influencing industry trends and regulations – and the practitioner track provides an immersive workshop for hands-on experience. \nQuestions? Contact Stephanie Decker at sdecker@ecoengineers.us. \nFor more information and to register click here: https://www.eventcreate.com/e/ecoengineers-lcaacademy
URL:https://www.ecoengineers.us/event/join-us-life-cycle-analysis-academy/
CATEGORIES:Event
ATTACH;FMTTYPE=image/jpeg:https://www.ecoengineers.us/wp-content/uploads/2024/04/Aerial-pink-salt-farm-scaled.jpg
END:VEVENT
END:VCALENDAR