BEGIN:VCALENDAR
VERSION:2.0
PRODID:-//EcoEngineers - ECPv6.15.20//NONSGML v1.0//EN
CALSCALE:GREGORIAN
METHOD:PUBLISH
X-WR-CALNAME:EcoEngineers
X-ORIGINAL-URL:https://www.ecoengineers.us
X-WR-CALDESC:Events for EcoEngineers
REFRESH-INTERVAL;VALUE=DURATION:PT1H
X-Robots-Tag:noindex
X-PUBLISHED-TTL:PT1H
BEGIN:VTIMEZONE
TZID:America/Chicago
BEGIN:DAYLIGHT
TZOFFSETFROM:-0600
TZOFFSETTO:-0500
TZNAME:CDT
DTSTART:20230312T080000
END:DAYLIGHT
BEGIN:STANDARD
TZOFFSETFROM:-0500
TZOFFSETTO:-0600
TZNAME:CST
DTSTART:20231105T070000
END:STANDARD
BEGIN:DAYLIGHT
TZOFFSETFROM:-0600
TZOFFSETTO:-0500
TZNAME:CDT
DTSTART:20240310T080000
END:DAYLIGHT
BEGIN:STANDARD
TZOFFSETFROM:-0500
TZOFFSETTO:-0600
TZNAME:CST
DTSTART:20241103T070000
END:STANDARD
BEGIN:DAYLIGHT
TZOFFSETFROM:-0600
TZOFFSETTO:-0500
TZNAME:CDT
DTSTART:20250309T080000
END:DAYLIGHT
BEGIN:STANDARD
TZOFFSETFROM:-0500
TZOFFSETTO:-0600
TZNAME:CST
DTSTART:20251102T070000
END:STANDARD
END:VTIMEZONE
BEGIN:VEVENT
DTSTART;VALUE=DATE:20240403
DTEND;VALUE=DATE:20240406
DTSTAMP:20260421T084909
CREATED:20240321T201021Z
LAST-MODIFIED:20240321T201106Z
UID:10000027-1712102400-1712361599@www.ecoengineers.us
SUMMARY:Landfill Gas Design and Management
DESCRIPTION:EcoEngineers’ Director of Compliance Consulting Alicia Jones and Carbon Consulting Manager for Renewable Natural Gas Sean Gassen will present for the “ Landfill Gas Design and Management” course hosted by the University of Wisconsin-Madison College of Engineering April 3-5. Alicia will discuss “Landfill Gas Markets and Biogas Economics” and Sean will discuss “Pipeline-Grade High-BTU Gas Conversion”on Friday\, April 5. \n  \nMore from the organizer: \nApril 3 – 5\, 2024 • Madison\, WI  \n\nLearn essential factors in landfill gas management for public image\, health protection\, and regulatory compliance. \nBenefit from expert guidance by top researchers\, industry professionals\, and practitioners in the field. \nAcquire crucial knowledge on gas system design\, emissions control\, extraction\, monitoring\, and emerging technologies. \nExplore technologies to turn landfills into revenue sources\, covering gas-to-energy\, gas-to-fuel projects\, and biogas economics. 
URL:https://www.ecoengineers.us/event/landfill-gas-design-and-management/
LOCATION:Madison\, Wisconsin
CATEGORIES:Event
ATTACH;FMTTYPE=image/png:https://www.ecoengineers.us/wp-content/uploads/2024/03/Landfill-Gas-Design-and-Management.png
END:VEVENT
BEGIN:VEVENT
DTSTART;VALUE=DATE:20240415
DTEND;VALUE=DATE:20240418
DTSTAMP:20260421T084909
CREATED:20240324T234441Z
LAST-MODIFIED:20240324T234441Z
UID:10000028-1713139200-1713398399@www.ecoengineers.us
SUMMARY:2024 Value of Biogas East Conference
DESCRIPTION:EcoEngineers President Brad Pleima\, P.E. is speaking as part of a panel at the 2024 Value of Biogas East Conference in Toronto\, Ontario. The panel “Carbon Markets Roundtable” will focus on “the latest development to watch out for as regulatory and voluntary carbon markets evolve in Canada\, North America and globally.”
URL:https://www.ecoengineers.us/event/ecoengineers-2024-value-of-biogas-east-conference/
LOCATION:Toronto\, Ontario
CATEGORIES:Conference
ATTACH;FMTTYPE=image/png:https://www.ecoengineers.us/wp-content/uploads/2024/03/2024-Value-of-Biogas-East-Conference-.png
END:VEVENT
BEGIN:VEVENT
DTSTART;VALUE=DATE:20240418
DTEND;VALUE=DATE:20240419
DTSTAMP:20260421T084909
CREATED:20240325T141328Z
LAST-MODIFIED:20240325T141328Z
UID:10000030-1713398400-1713484799@www.ecoengineers.us
SUMMARY:Appalachian RNG Conference III – Spring 2024
DESCRIPTION:Appalachian RNG Conference – Spring 2024 kicks off the morning of April 18 in Southpointe\, Pennsylvania and EcoEngineers is a proud sponsor of this impactful industry event. EcoEngineers’ Dave Lindenmuth\, Managing Director of Renewable Natural Gas Services\, will share his extensive RNG expertise as a speaker for the event.  \nMore from the organizer:\n“The Appalachian RNG III Spring 2024 Conference will provide tremendous information from industry experts who are leading the growth of this burgeoning industry. Scroll down to learn more about our conference and how you can be a part of it. Learn from the leaders!”
URL:https://www.ecoengineers.us/event/appalachian-rng-conference-iii-spring-2024/
LOCATION:Southpointe\, Pennsylvania
CATEGORIES:Conference
ATTACH;FMTTYPE=image/png:https://www.ecoengineers.us/wp-content/uploads/2024/03/Appalachian-RNG-Conference.png
END:VEVENT
END:VCALENDAR