BEGIN:VCALENDAR
VERSION:2.0
PRODID:-//EcoEngineers - ECPv6.15.20//NONSGML v1.0//EN
CALSCALE:GREGORIAN
METHOD:PUBLISH
X-WR-CALNAME:EcoEngineers
X-ORIGINAL-URL:https://www.ecoengineers.us
X-WR-CALDESC:Events for EcoEngineers
REFRESH-INTERVAL;VALUE=DURATION:PT1H
X-Robots-Tag:noindex
X-PUBLISHED-TTL:PT1H
BEGIN:VTIMEZONE
TZID:America/Chicago
BEGIN:DAYLIGHT
TZOFFSETFROM:-0600
TZOFFSETTO:-0500
TZNAME:CDT
DTSTART:20240310T080000
END:DAYLIGHT
BEGIN:STANDARD
TZOFFSETFROM:-0500
TZOFFSETTO:-0600
TZNAME:CST
DTSTART:20241103T070000
END:STANDARD
BEGIN:DAYLIGHT
TZOFFSETFROM:-0600
TZOFFSETTO:-0500
TZNAME:CDT
DTSTART:20250309T080000
END:DAYLIGHT
BEGIN:STANDARD
TZOFFSETFROM:-0500
TZOFFSETTO:-0600
TZNAME:CST
DTSTART:20251102T070000
END:STANDARD
BEGIN:DAYLIGHT
TZOFFSETFROM:-0600
TZOFFSETTO:-0500
TZNAME:CDT
DTSTART:20260308T080000
END:DAYLIGHT
BEGIN:STANDARD
TZOFFSETFROM:-0500
TZOFFSETTO:-0600
TZNAME:CST
DTSTART:20261101T070000
END:STANDARD
END:VTIMEZONE
BEGIN:VEVENT
DTSTART;TZID=America/Chicago:20250612T120000
DTEND;TZID=America/Chicago:20250612T130000
DTSTAMP:20260421T035837
CREATED:20250602T214021Z
LAST-MODIFIED:20251002T214227Z
UID:10000156-1749729600-1749733200@www.ecoengineers.us
SUMMARY:Carbon Counts: RNG in Greenhouse Gas Accounting
DESCRIPTION:In EcoEngineers’ next iteration of our Carbon Counts series\, we are exploring the strategic role of Renewable Natural Gas (RNG) in corporate decarbonization and greenhouse gas (GHG) inventory reporting. This session distills key insights from our new EcoUniversity workshop\, RNG in Corporate Sustainability. It offers a practical overview of how RNG is being adopted across sectors—from logistics and utilities to tech and pharma. Whether you’re shaping sustainability strategy or navigating compliance frameworks\, this session will equip you with actionable insights to position RNG as a credible\, scalable solution in the energy transition. \nThis webinar originally aired on June 12\, 2025.
URL:https://www.ecoengineers.us/event/carbon-counts-episode-2/
LOCATION:Virtual
CATEGORIES:Webinar
ORGANIZER;CN="EcoUniversity":MAILTO:lnielsen@ecoengineers.us
END:VEVENT
END:VCALENDAR