BEGIN:VCALENDAR
VERSION:2.0
PRODID:-//EcoEngineers - ECPv6.15.20//NONSGML v1.0//EN
CALSCALE:GREGORIAN
METHOD:PUBLISH
X-WR-CALNAME:EcoEngineers
X-ORIGINAL-URL:https://www.ecoengineers.us
X-WR-CALDESC:Events for EcoEngineers
REFRESH-INTERVAL;VALUE=DURATION:PT1H
X-Robots-Tag:noindex
X-PUBLISHED-TTL:PT1H
BEGIN:VTIMEZONE
TZID:America/Chicago
BEGIN:DAYLIGHT
TZOFFSETFROM:-0600
TZOFFSETTO:-0500
TZNAME:CDT
DTSTART:20240310T080000
END:DAYLIGHT
BEGIN:STANDARD
TZOFFSETFROM:-0500
TZOFFSETTO:-0600
TZNAME:CST
DTSTART:20241103T070000
END:STANDARD
BEGIN:DAYLIGHT
TZOFFSETFROM:-0600
TZOFFSETTO:-0500
TZNAME:CDT
DTSTART:20250309T080000
END:DAYLIGHT
BEGIN:STANDARD
TZOFFSETFROM:-0500
TZOFFSETTO:-0600
TZNAME:CST
DTSTART:20251102T070000
END:STANDARD
BEGIN:DAYLIGHT
TZOFFSETFROM:-0600
TZOFFSETTO:-0500
TZNAME:CDT
DTSTART:20260308T080000
END:DAYLIGHT
BEGIN:STANDARD
TZOFFSETFROM:-0500
TZOFFSETTO:-0600
TZNAME:CST
DTSTART:20261101T070000
END:STANDARD
END:VTIMEZONE
BEGIN:VEVENT
DTSTART;TZID=America/Chicago:20250814T120000
DTEND;TZID=America/Chicago:20250814T130000
DTSTAMP:20260423T081813
CREATED:20250802T213540Z
LAST-MODIFIED:20251002T213742Z
UID:10000154-1755172800-1755176400@www.ecoengineers.us
SUMMARY:Carbon Counts: GHG Accounting with Molecule Group
DESCRIPTION:Join David LaGreca and Dave Lindenmuth on an informational series discussing how guidance from the Greenhouse Gas Protocol\, state and local jurisdictions\, and evolving consumer expectations are shaping the nature of transparency in accounting for emissions. \nIn this episode they welcome Sam Lehr of Molecule Group as the team explores the organization’s new global industry principles for sustainable fuels\, chemicals\, and materials. They will examine how these principles aim to harmonize carbon accounting\, bridge voluntary and compliance markets\, and drive international policy. The session will focus on the challenges and opportunities in standardizing market-based instruments\, the role of registries and standards\, and actionable steps for industry stakeholders. Ideal for anyone interested in the future of sustainable fuels\, carbon accounting\, and global market alignment. \nThis webinar originally aired on August 14\, 2025.
URL:https://www.ecoengineers.us/event/carbon-counts-episode-5/
LOCATION:Virtual
CATEGORIES:Webinar
ORGANIZER;CN="EcoUniversity":MAILTO:lnielsen@ecoengineers.us
END:VEVENT
END:VCALENDAR