BEGIN:VCALENDAR
VERSION:2.0
PRODID:-//EcoEngineers - ECPv6.15.20//NONSGML v1.0//EN
CALSCALE:GREGORIAN
METHOD:PUBLISH
X-WR-CALNAME:EcoEngineers
X-ORIGINAL-URL:https://www.ecoengineers.us
X-WR-CALDESC:Events for EcoEngineers
REFRESH-INTERVAL;VALUE=DURATION:PT1H
X-Robots-Tag:noindex
X-PUBLISHED-TTL:PT1H
BEGIN:VTIMEZONE
TZID:America/Chicago
BEGIN:DAYLIGHT
TZOFFSETFROM:-0600
TZOFFSETTO:-0500
TZNAME:CDT
DTSTART:20230312T080000
END:DAYLIGHT
BEGIN:STANDARD
TZOFFSETFROM:-0500
TZOFFSETTO:-0600
TZNAME:CST
DTSTART:20231105T070000
END:STANDARD
BEGIN:DAYLIGHT
TZOFFSETFROM:-0600
TZOFFSETTO:-0500
TZNAME:CDT
DTSTART:20240310T080000
END:DAYLIGHT
BEGIN:STANDARD
TZOFFSETFROM:-0500
TZOFFSETTO:-0600
TZNAME:CST
DTSTART:20241103T070000
END:STANDARD
BEGIN:DAYLIGHT
TZOFFSETFROM:-0600
TZOFFSETTO:-0500
TZNAME:CDT
DTSTART:20250309T080000
END:DAYLIGHT
BEGIN:STANDARD
TZOFFSETFROM:-0500
TZOFFSETTO:-0600
TZNAME:CST
DTSTART:20251102T070000
END:STANDARD
BEGIN:DAYLIGHT
TZOFFSETFROM:-0600
TZOFFSETTO:-0500
TZNAME:CDT
DTSTART:20260308T080000
END:DAYLIGHT
BEGIN:STANDARD
TZOFFSETFROM:-0500
TZOFFSETTO:-0600
TZNAME:CST
DTSTART:20261101T070000
END:STANDARD
END:VTIMEZONE
BEGIN:VEVENT
DTSTART;VALUE=DATE:20250915
DTEND;VALUE=DATE:20250918
DTSTAMP:20260420T103503
CREATED:20250715T191132Z
LAST-MODIFIED:20250715T191132Z
UID:10000136-1757894400-1758153599@www.ecoengineers.us
SUMMARY:Argus North American Biofuels\, LCFS & Carbon Markets Summit
DESCRIPTION:EcoEngineer’s experts are attending the Argus North American Biofuels\, LCFS & Carbon Markets Summit in Monterey\, California. \nMore from the event organizer: \nJoin your peers for three days of unparalleled networking and knowledge exchange at North America’s leading biofuels\, carbon\, and LCFS event. Gain insights into the latest trends\, technologies\, and regulatory updates shaping the industry\, with key themes including carbon pricing\, cap-and-trade\, LCFS programmes\, SAF\, tax credits\, RNG\, and the evolving landscape of sustainable fuel solutions.  \nThe summit will equip you with the knowledge and connections needed to navigate  the ever-changing carbon and biofuels market. Whether you’re looking to scale your biofuel projects\, engage with policymakers\, or position your business for long-term success\, this event offers the perfect platform to collaborate\, share insights\, and stay ahead of the curve. \n 
URL:https://www.ecoengineers.us/event/argus-north-american-biofuels-lcfs-carbon-markets-summit/
LOCATION:Monterey\, California
CATEGORIES:Conference
END:VEVENT
BEGIN:VEVENT
DTSTART;VALUE=DATE:20240916
DTEND;VALUE=DATE:20240919
DTSTAMP:20260420T103503
CREATED:20240906T181120Z
LAST-MODIFIED:20240910T203155Z
UID:10000065-1726444800-1726703999@www.ecoengineers.us
SUMMARY:Argus North American Biofuels\, LCFS & Carbon Markets Summit
DESCRIPTION:EcoEngineers industry experts are attending and Managing Director of Houston\, Petroleum & Refining\, Kristine Klavers\, will speak at the 2024 Argus North American Biofuels\, LCFS & Carbon Markets Summit in Monterey\, California hosted by Argus. \nMore from the summit organizer:\n“North America’s leading biofuels\, carbon and LCFS event \n\n\n“Argus North American Biofuels\, LCFS & Carbon Markets Summit returns to Monterey\, California on September 16-18\, 2024 to welcome over 650 regulators\, key government\, and industry participants across the entire biofuels supply chain for three days of networking and knowledge exchange.\n \n“The event brings together policy makers from California\, Oregon\, Washington\, Canada’s ECCC\, Alberta\, British Columbia and more to share exclusive updates. Do not miss your opportunity to meet with 650+ peers involved in both compliance and voluntary carbon markets\, LCFS and biofuels sectors including traders\, producers\, regulators\, and more!”
URL:https://www.ecoengineers.us/event/argus-north-american-biofuels-lcfs-carbon-markets-2024/
LOCATION:Monterey\, California
CATEGORIES:Conference
END:VEVENT
END:VCALENDAR